BEGIN:VCALENDAR
VERSION:2.0
PRODID:-//FOODLOVER magazine - ECPv6.1.3//NONSGML v1.0//EN
CALSCALE:GREGORIAN
METHOD:PUBLISH
X-WR-CALNAME:FOODLOVER magazine
X-ORIGINAL-URL:https://foodlovermagazine.com
X-WR-CALDESC:Events for FOODLOVER magazine
REFRESH-INTERVAL;VALUE=DURATION:PT1H
X-Robots-Tag:noindex
X-PUBLISHED-TTL:PT1H
BEGIN:VTIMEZONE
TZID:Europe/London
BEGIN:DAYLIGHT
TZOFFSETFROM:+0000
TZOFFSETTO:+0100
TZNAME:BST
DTSTART:20210328T010000
END:DAYLIGHT
BEGIN:STANDARD
TZOFFSETFROM:+0100
TZOFFSETTO:+0000
TZNAME:GMT
DTSTART:20211031T010000
END:STANDARD
END:VTIMEZONE
BEGIN:VEVENT
DTSTART;TZID=Europe/London:20211106T103000
DTEND;TZID=Europe/London:20211106T163000
DTSTAMP:20260424T153716
CREATED:20210914T093243Z
LAST-MODIFIED:20210914T093243Z
UID:23872-1636194600-1636216200@foodlovermagazine.com
SUMMARY:Bath Vegan Festival
DESCRIPTION:With 60+ Vegan stalls at Bath Pavilion in November\, this festival is the place for Vegans. \nEntry is £4 payable per day on the door (under 16’s free) or £15 for VIP tickets in advance from Eventbrite to include fast track entry and a goody bag full of vegan products\, samples\, discounts and offers. \n 
URL:https://foodlovermagazine.com/event/bath-vegan-festival
LOCATION:Bath Pavillion\, North Parade Rd\, Bathwick\,\, Bath\, BA2 4EU
CATEGORIES:Bristol & Bath
ATTACH;FMTTYPE=image/jpeg:https://foodlovermagazine.com/wp-content/uploads/2021/09/baklava-4343400_1920.jpg
END:VEVENT
BEGIN:VEVENT
DTSTART;VALUE=DATE:20211022
DTEND;VALUE=DATE:20211026
DTSTAMP:20260424T153716
CREATED:20210318T093344Z
LAST-MODIFIED:20210318T094257Z
UID:23037-1634868000-1635127199@foodlovermagazine.com
SUMMARY:Dartmouth Food Festival
DESCRIPTION:The Dartmouth Food Festival is back for 2021 with a tempting mix of delicious regional food and drink\, chef demonstrations\, workshops\, lively food debates and fun for all the family. Set in the beautiful estuary town of Dartmouth in the South Hams from Friday 22nd to Sunday 24th October the 3-day event is a foodie’s heaven\, celebrating the very best food\, drink and culinary skills from the South West. \nThe festival sees around 20\,000 + people flock to the town and is paradise for food fans with more than 100 South West producers showcasing their delicious produce\, a packed programme of events and a line up of celebrated chefs demonstrating their skills and inspiring festival goers. \nEntry to the festival is free with a charge for some events. Dartmouth Food Festival relies on the generous support of festival sponsors and patrons.
URL:https://foodlovermagazine.com/event/dartmouth-food-festival
LOCATION:Dartmouth Food Festival\, Around the town\, Dartmouth\, TQ6 9PS
CATEGORIES:Devon
ATTACH;FMTTYPE=image/png:https://foodlovermagazine.com/wp-content/uploads/2021/03/Screenshot-2021-03-17-at-13.32.47.png
END:VEVENT
BEGIN:VEVENT
DTSTART;VALUE=DATE:20210924
DTEND;VALUE=DATE:20210928
DTSTAMP:20260424T153716
CREATED:20210823T112405Z
LAST-MODIFIED:20210823T112405Z
UID:23713-1632448800-1632707999@foodlovermagazine.com
SUMMARY:The Great Bath Feast
DESCRIPTION:Be prepared to indulge your taste buds from Fri 24 Sept – Sun 26 Sept 2021; as the city of Bath goes all foodie. \nThe Great Bath Feast\, in association with The Bertinet Kitchen\, celebrates the best food and drink in the South West\, as well as taste-sensations from further afield\, appealing to culinary connoisseurs everywhere. \nThe festival kicks off with a buzzing market on Milsom Street in Bath with chef demos\, pop-ups and a Food & Drink trail for all to enjoy. \nWith a number of curated and fringe events across the city throughout October\, there will be something to suit every taste!
URL:https://foodlovermagazine.com/event/the-great-bath-feast
LOCATION:Bath
CATEGORIES:Bristol & Bath
ATTACH;FMTTYPE=image/png:https://foodlovermagazine.com/wp-content/uploads/2021/08/the-great-bath-feast.png
END:VEVENT
BEGIN:VEVENT
DTSTART;VALUE=DATE:20210917
DTEND;VALUE=DATE:20210921
DTSTAMP:20260424T153716
CREATED:20210818T085233Z
LAST-MODIFIED:20210818T085404Z
UID:23682-1631844000-1632103199@foodlovermagazine.com
SUMMARY:Rattler Fest 2021
DESCRIPTION:The first annual Rattler Fest is coming to Healeys Cornish Cyder Farm\, Friday 17th September to Sunday 19th September 2021 \nWelcome to the very first annual RATTLER FEST\, a celebration of all things Rattler! \nBringing you a full 3 days of live music on the Rattler Main Stage\, Orchard Silent Disco\, Pineapple Beach\, Late Night Gin Lounge\, and more! \nPlus…plenty of food and drink stalls to keep the whole family fed and watered\, fun at the farmyard\, tractor rides around the orchard\, kid’s arts & crafts & our annual sausage race. Did we mention children go free? \nIf you want to enjoy the day without having to drive\, why not camp overnight? You can even bring your campervan. \n 
URL:https://foodlovermagazine.com/event/rattler-fest-2021
LOCATION:Healeys Cornish Cyder Farm\, Penhallow\, Truro\, Cornwall\, TR4 9LW
CATEGORIES:Cornwall
ATTACH;FMTTYPE=image/png:https://foodlovermagazine.com/wp-content/uploads/2021/08/Screenshot-2021-08-18-at-09.51.30.png
END:VEVENT
BEGIN:VEVENT
DTSTART;VALUE=DATE:20210917
DTEND;VALUE=DATE:20210921
DTSTAMP:20260424T153716
CREATED:20210317T132250Z
LAST-MODIFIED:20210318T092859Z
UID:23033-1631844000-1632103199@foodlovermagazine.com
SUMMARY:Abbfest
DESCRIPTION:Abbfest is an annual celebration of local food\, drink\, crafts\, music and entertainment which raises money for local charities and good causes.\nAbbfest is more than a beer and food festival. It is a registered charity which uses the surplus from each festival to make grants to local charities and organisations. Everyone who comes to Abbfest contributes to our charitable efforts through the money they spend.\n\n\n\n\n\nCome and join us for a great weekend the best food\, drink and entertainment Devon has to offer.
URL:https://foodlovermagazine.com/event/abbfest
LOCATION:Abbfest\, Fermoy's Garden Centre\, Totnes Road\, Newton Abbot\, TQ12 5TN
ATTACH;FMTTYPE=image/png:https://foodlovermagazine.com/wp-content/uploads/2021/03/Screenshot-2021-03-17-at-13.22.29.png
END:VEVENT
BEGIN:VEVENT
DTSTART;TZID=Europe/London:20210911T100000
DTEND;TZID=Europe/London:20210912T183000
DTSTAMP:20260424T153716
CREATED:20210317T140529Z
LAST-MODIFIED:20210317T140529Z
UID:23045-1631354400-1631471400@foodlovermagazine.com
SUMMARY:Dorset Seafood Festival
DESCRIPTION:Whatever your plans this summer\, be sure to catch the award-winning Nyetimber Dorset Seafood Festival taking place on the Weymouth Peninsula\, the very end of Weymouth’s beautiful sandy beach and the start of the historic harbourside\, on 11th & 12th September. \nThe Nyetimber Dorset Seafood Festival brings together sparkling wine and seafood\, family entertainment and a great opportunity to gain a better understanding of the superb seafood available to us just off our wonderful shores. \nTaste fresh seafood dishes from around 100 stalls\, or simply relax with a bottle of chilled sparkling wine.\nBe entertained by national chefs as well as by our much-loved local seafood heroes. \nJoin in with hands-on sessions\, learn about underutilised species\, bring the family to try new experiences and find out why we should all be eating more seafood.\nWhether you’re just happy to wander\, sampling and enjoying great food and local produce\, sipping Nyetimber Sparkling Wine\, or whether you’d prefer to listen to seafood experts debate the future of our seas\, there is something for everyone. \nWith the emphasis on responsibly sourced seafood from the region where possible\, the Nyetimber Dorset Seafood Festival helps raise money for the Fishermen’s Mission charity. \nTo ensure the safety of festival-goers\, entry to the Festival this year will be by ticket only. Tickets are limited and cost just £10 for adults; secure your place at this summer’s seafood extravaganza.
URL:https://foodlovermagazine.com/event/dorset-seafood-festival
LOCATION:Weymouth Peninsula (behind the Pavillion)\, The Esplanade\, Weymouth\, DT4 8ED
CATEGORIES:Dorset
ATTACH;FMTTYPE=image/png:https://foodlovermagazine.com/wp-content/uploads/2021/03/Screenshot-2021-03-17-at-14.05.06.png
END:VEVENT
BEGIN:VEVENT
DTSTART;TZID=Europe/London:20210911T100000
DTEND;TZID=Europe/London:20210912T170000
DTSTAMP:20260424T153716
CREATED:20210317T142631Z
LAST-MODIFIED:20210317T142631Z
UID:23053-1631354400-1631466000@foodlovermagazine.com
SUMMARY:Sturminster Newton Cheese Festival
DESCRIPTION:You’ll be able to buy just about every variety of cheese from the very local Blue Vinney to Sparkenhoe Red Leicester\, Cornish Blue and more.\nThere is a wide variety of other foods on offer from bread\, biscuits & beef\, to coffee\, chocolate and olives. \nIt’s not all food though – there is so much more on offer – lots of new craft stalls this year\, children’s entertainment\, a real ale tent & more\, all accompanied by great live music.\nCome and join us and find out why Sturminster Cheese Festival is considered to be the best event of the year by our visitors and producers.
URL:https://foodlovermagazine.com/event/sturminster-newton-cheese-festival
LOCATION:Sturminster Newton Cheese Festival\, Bridge St\, Sturminster Newton\, DT10 1BZ
CATEGORIES:Dorset
ATTACH;FMTTYPE=image/png:https://foodlovermagazine.com/wp-content/uploads/2021/03/Screenshot-2021-03-17-at-14.26.09.png
END:VEVENT
BEGIN:VEVENT
DTSTART;TZID=Europe/London:20210911T100000
DTEND;TZID=Europe/London:20210912T160000
DTSTAMP:20260424T153716
CREATED:20210816T151324Z
LAST-MODIFIED:20210823T080722Z
UID:23676-1631354400-1631462400@foodlovermagazine.com
SUMMARY:Harts of Stur Open Weekend 2021
DESCRIPTION:The Open Weekend at Harts Of Stur department store in Sturminster Newton coincides with the 2021 Sturminster Newton Cheese Festival. If you’re heading into the town for the Cheese Festival\, consider making a day of it and popping in to Harts Of Stur. \nIn addition to our usual wide range of products at great prices we will also have some unbeatable\, on the day only instore offers as well as product demonstrations from well known brands. \nWe’re well known in the local area and our country department store has departments covering; kitchen and cookware\, home and housewares\, clothing\, hardware and DIY\, outdoor and camping\, garden and pets. \nOur new coffee shop\, the Harts Coffee Loft is also now open and will be in full swing on the Open Weekend\, serving drinks\, snacks\, and both hot and cold food. \nSaturday 11th September 2021: 8am to 4:30pm\nSunday 12th September 2021: 10am to 4pm
URL:https://foodlovermagazine.com/event/harts-of-stur-open-weekend-2021
LOCATION:Harts of Stur\, Station Road\,\, Sturminster Newton\, DT10 1BD
CATEGORIES:Dorset
ATTACH;FMTTYPE=image/jpeg:https://foodlovermagazine.com/wp-content/uploads/2021/08/Harts-of-Stur-New-Extension-Exterior.jpg
END:VEVENT
BEGIN:VEVENT
DTSTART;TZID=Europe/London:20210911T090000
DTEND;TZID=Europe/London:20210911T170000
DTSTAMP:20260424T153716
CREATED:20210526T083925Z
LAST-MODIFIED:20210526T083925Z
UID:23372-1631350800-1631379600@foodlovermagazine.com
SUMMARY:Frome Agricultural and Cheese Show
DESCRIPTION:Frome Agricultural and Cheese Show is for all the family. \nWith over 350 trade stands\, a bigger food hall & some of the best local produce on offer\, you won’t be going home hungry or empty handed! \nOur Cheese Pavilion will house over 1500 cheese exhibits\, the famous cheese auction\, cheese traders\, cheese bar & cookery theatre. \n 
URL:https://foodlovermagazine.com/event/frome-agricultural-and-cheese-show
LOCATION:Frome Agricultural and Cheese Show\, West Woodlands Showground\, Frome\, BA11 5ES
CATEGORIES:Somerset
ATTACH;FMTTYPE=image/jpeg:https://foodlovermagazine.com/wp-content/uploads/2021/05/FACS21-scaled.jpg
END:VEVENT
BEGIN:VEVENT
DTSTART;TZID=Europe/London:20210828T100000
DTEND;TZID=Europe/London:20210828T160000
DTSTAMP:20260424T153716
CREATED:20210514T084749Z
LAST-MODIFIED:20210514T084749Z
UID:23344-1630144800-1630166400@foodlovermagazine.com
SUMMARY:eat:Chipping Sodbury
DESCRIPTION:eat:Chipping Sodbury food & drink festival – a new event in the gateway to the Cotswolds\nSaturday 28 August\nThis is a one-day celebration of local and regional food and drink\, organised by multi-award winning eat:Festivals.\nFind over 70 local food and drink producers all along the High Street\nFarmers market favourites\, great street food and some funny beats from their DJs. \nwww.eatfestivals.org
URL:https://foodlovermagazine.com/event/eatchipping-sodbury
LOCATION:eat:Chipping Sodbury\, High Street\,\, Chipping Sodbury\, BS37 6BA
CATEGORIES:Bristol & Bath
ATTACH;FMTTYPE=image/png:https://foodlovermagazine.com/wp-content/uploads/2021/05/6.png
END:VEVENT
BEGIN:VEVENT
DTSTART;TZID=Europe/London:20210828T080000
DTEND;TZID=Europe/London:20210830T170000
DTSTAMP:20260424T153716
CREATED:20210317T141657Z
LAST-MODIFIED:20210317T141657Z
UID:23049-1630137600-1630342800@foodlovermagazine.com
SUMMARY:Christchurch Food Festival
DESCRIPTION:We are delighted to announce the confirmed dates of the Christchurch Food Festival 2021 which will now take place over the August bank holiday weekend – Saturday 28th August – Monday 30th August. The festival as always will remain FREE to attend. \nEvery year the Christchurch Food Festival usually welcomes an estimated 60\,000 visitors who come to enjoy an exceptional culinary adventure. \nCome and enjoy a very special event with more food and drink\, entertainment\, demos and fun for all the family. \n 
URL:https://foodlovermagazine.com/event/christchurch-food-festival
LOCATION:Christchurch Food Festival\, High Street\, Christchurch\, BH23 1HS.
CATEGORIES:Dorset
ATTACH;FMTTYPE=image/png:https://foodlovermagazine.com/wp-content/uploads/2021/03/Screenshot-2021-03-17-at-14.15.16.png
END:VEVENT
BEGIN:VEVENT
DTSTART;TZID=Europe/London:20210818T100000
DTEND;TZID=Europe/London:20210818T160000
DTSTAMP:20260424T153716
CREATED:20210514T084335Z
LAST-MODIFIED:20210514T084335Z
UID:23340-1629280800-1629302400@foodlovermagazine.com
SUMMARY:eat:Portishead
DESCRIPTION:The gold award-winning eat:Portishead food & drink market is returning to the marina on Saturday 14 August\nThis is a one-day celebration of local and regional food and drink\, organised by multi-award winning eat:Festivals.\nFind over 90local food and drink producers all along the spectacular marina and Parish Wharf.\nFarmers market favourites\, great street food and some funny beats from their DJs. \nwww.eatfestivals.org
URL:https://foodlovermagazine.com/event/eatportishead
LOCATION:eat:Portishead\, Portishead Marina\,\, Portishead\, BS20 7AE
CATEGORIES:Somerset
ATTACH;FMTTYPE=image/png:https://foodlovermagazine.com/wp-content/uploads/2021/05/2.png
END:VEVENT
BEGIN:VEVENT
DTSTART;TZID=Europe/London:20210814T100000
DTEND;TZID=Europe/London:20210814T160000
DTSTAMP:20260424T153716
CREATED:20210514T085110Z
LAST-MODIFIED:20210514T085148Z
UID:23348-1628935200-1628956800@foodlovermagazine.com
SUMMARY:Honiton Gate to Plate
DESCRIPTION:Honiton Gate to Plate food & drink festival – back for a 3rd time and now under the stewardship of eat:Festivals\nSaturday 14 August\nThis is a one-day celebration of local and regional food and drink\, organised by multi-award winning eat:Festivals.\nFind over 70 local food and drink producers all along the High Street\nFarmers market favourites\, great street food and some funny beats from their DJs. \nwww.eatfestivals.org
URL:https://foodlovermagazine.com/event/honiton-gate-to-plate
LOCATION:Honiton Gate to Plate\, High Street\,\, Honiton\, EX14 1JL
CATEGORIES:Devon
ATTACH;FMTTYPE=image/png:https://foodlovermagazine.com/wp-content/uploads/2021/05/5.png
END:VEVENT
BEGIN:VEVENT
DTSTART;TZID=Europe/London:20210731T100000
DTEND;TZID=Europe/London:20210801T190000
DTSTAMP:20260424T153716
CREATED:20210524T083717Z
LAST-MODIFIED:20210524T083717Z
UID:23354-1627725600-1627844400@foodlovermagazine.com
SUMMARY:Great Dorset Chilli Festival
DESCRIPTION:We’re back!!! New venue: Stock Gaylard\, Sturminster Newton. \nAt last we get to celebrate our 10th anniversary with a celebration of…..you guessed it…. the chilli! \nIf you’ve been before you’ll know that we are a top-notch food festival with loads of stalls for the chilli-hater. After all\, we know we have to look after everyone. But if you’re coming for the chilli\, we’ve got the lot. Hot sauces and mild sauces\, chilli jams\, pickles and chutneys\, chilli cider\, chilli fudge\, chilli chocolate\, chilli cheese\, chilli mustard\, chilli relish\, chilli plants\, chilli seeds\, chilli ceramics\, chilli talks\, plus bands\, beer tent\, cooking demonstrations\, bouncy castle. \nCheck out the website for details. \ngreatdorsetchillifestival.co.uk \n 
URL:https://foodlovermagazine.com/event/great-dorset-chilli-festival
LOCATION:Stock Gaylard\, Stock Gaylard\, Sturminster Newton\, DT10 2BG
CATEGORIES:Dorset
ATTACH;FMTTYPE=image/jpeg:https://foodlovermagazine.com/wp-content/uploads/2021/05/GDCF.LOGO-WEB.jpg
END:VEVENT
BEGIN:VEVENT
DTSTART;VALUE=DATE:20210730
DTEND;VALUE=DATE:20210803
DTSTAMP:20260424T153716
CREATED:20210317T114900Z
LAST-MODIFIED:20210317T114900Z
UID:23013-1627610400-1627869599@foodlovermagazine.com
SUMMARY:Rock Oyster Festival
DESCRIPTION:Family festival antics by day\, live music and campfire delights by night\, with heavenly food all weekend. \nSet in the stunning location of Dinham House\, you’ll be camping with a festival view that’s hard to beat. \n\n\nWith plenty of nearby beaches and excursions to explore\, this is a destination festival you’ll never forget. \nA very limited number of presale tickets are now on sale. \nThe site opens on Friday at 10:00 and closes at 11:00 on Monday. Weekend campers will need to leave the site no later than 11:00 Monday. Day passes allow access to the arena only (no campsite access) Friday\, Saturday 10:00 – 01:00 and Sunday 10:00 – 00:00.
URL:https://foodlovermagazine.com/event/rock-oyster-festival
LOCATION:DINHAM HOUSE\, NR WADEBRIDGE\, CORNWALL\, PL27 6RH
CATEGORIES:Cornwall
ATTACH;FMTTYPE=image/png:https://foodlovermagazine.com/wp-content/uploads/2021/03/Screenshot-2021-03-17-at-11.48.41.png
END:VEVENT
BEGIN:VEVENT
DTSTART;TZID=Europe/London:20210724T090000
DTEND;TZID=Europe/London:20210724T173000
DTSTAMP:20260424T153716
CREATED:20210317T125215Z
LAST-MODIFIED:20210317T130345Z
UID:23025-1627117200-1627147800@foodlovermagazine.com
SUMMARY:Mid Devon Show
DESCRIPTION:Experience a true celebration of rural Mid Devon with an eclectic mix of breathtaking entertainment\, food\, shopping\, music\, horticulture and farm life. \n\n\n\nMid Devon Show is an award winning show. You will be spoilt for choice with eight hours of nonstop entertainment and an adventure into local history\, produce and the finest offerings available right here in Mid Devon. \nFood and drink from all over the South West are available from numerous locations through out the show ground. Our amazing Food Marquee has an eclectic mix of traders serving up delicious offerings from local ciders and cheeses to hot take away treats. \nWe also have our catering units offering a huge choice of different foods. Whatever your taste there is bound to be something just for you. There are so many to choose from you might just have to try more than one! \nDelicious ice creams area also available from various locations together with cold slush drinks. \nThere are also two public bars for the grown ups which always prove to be popular
URL:https://foodlovermagazine.com/event/mid-devon-show
LOCATION:Mid Devon Show\, Tiverton\, EX16 7PP
CATEGORIES:Devon
ATTACH;FMTTYPE=image/png:https://foodlovermagazine.com/wp-content/uploads/2021/03/Screenshot-2021-03-17-at-13.00.20.png
END:VEVENT
BEGIN:VEVENT
DTSTART;TZID=Europe/London:20210608T100000
DTEND;TZID=Europe/London:20210609T170000
DTSTAMP:20260424T153716
CREATED:20210318T095530Z
LAST-MODIFIED:20210318T095530Z
UID:23080-1623146400-1623258000@foodlovermagazine.com
SUMMARY:The Source Trade Show
DESCRIPTION:The Source Trade Show is the South West’s biggest and best show for anyone with a serious interest in speciality foods\, quality drinks\, profitable catering and inspired hospitality. \nIf you are looking for that special ingredient for your menu\, that unique product for your shop\, or the essential equipment for your kitchen\, then this show will both inspire you and help your business grow. Give your business the impetus it needs going into the new season with this huge spread of comparative tastings\, networking opportunities and inspirational experiences. \n  \n 
URL:https://foodlovermagazine.com/event/the-source-trade-show
LOCATION:Westpoint Centre\, Clyst St Mary\, Exeter\, EX5 1DJ
CATEGORIES:Devon
ATTACH;FMTTYPE=image/png:https://foodlovermagazine.com/wp-content/uploads/2021/03/Screenshot-2021-03-18-at-09.54.58.png
END:VEVENT
BEGIN:VEVENT
DTSTART;TZID=Europe/London:20210529T100000
DTEND;TZID=Europe/London:20210529T160000
DTSTAMP:20260424T153716
CREATED:20210317T134700Z
LAST-MODIFIED:20210317T135322Z
UID:23041-1622282400-1622304000@foodlovermagazine.com
SUMMARY:eat Burnham-on-Sea Spring 21
DESCRIPTION:All our food & drink festivals are free to attend\, family-friendly\, accessible and held in a town centre. We aim to celebrate the great local producers surrounding the festival town by putting on a cracking one-day festival that is low cost for them to attend – meaning that money goes straight back into local businesses; well publicised; good fun; well run and with lots of variety. eat:Festivals is a not-for-profit social enterprise that aims to connect communities with the productive landscape that surrounds them\, which is good for local business\, food producers and for families. \nThe festivals aim to bring a great range of producers and products into the town on the day of the festival. Mostly based within 25 miles of each town\, with a few exceptional and hard to find products from further afield. Mix in a hands-on cook school\, workshops\, livestock\, tractors and lots of entertainment and competitions. It’s a free day out and a chance to meet friends whilst discovering something new. \nWe trade between 10 and 4pm. We know our peak hours are between 11 and 2. If you want to have a bit more elbow room\, to get the pick of the produce\, we recommend you arrive early.
URL:https://foodlovermagazine.com/event/eat-burnham-on-sea-spring-21
LOCATION:Eat – Burnham on Sea\, Victoria Street\, Burnham-on-Sea\, TA8 1AW
CATEGORIES:Somerset
ATTACH;FMTTYPE=image/png:https://foodlovermagazine.com/wp-content/uploads/2021/03/Screenshot-2021-03-17-at-13.46.44.png
END:VEVENT
BEGIN:VEVENT
DTSTART;VALUE=DATE:20210528
DTEND;VALUE=DATE:20210602
DTSTAMP:20260424T153716
CREATED:20210319T125702Z
LAST-MODIFIED:20210319T125702Z
UID:23087-1622167200-1622512799@foodlovermagazine.com
SUMMARY:Porthilly Spirit
DESCRIPTION:From Friday 28 to Monday 31 May\, Porthilly Spirit welcomes renowned chefs\, artists\, musicians and creatives to gather at Trefresa Farm\, close to Rock\, for three days of feasting\, workshops\, inspirational talks and adventure. \nEverything you love to do in the kitchen\, the shed at the bottom of your garden\, the greenhouse. And everything you’ve dreamt of doing\, too. Foraging. Farming. Woodfire cooking. Crafting. \nLive performances\, made-you-dream-bigger talks\, get-involved workshops and immerse-yourself experiences. All with the movers and makers who are paving the way in food\, produce\, music\, craft and sustainability. \n\n\n\n\n\nDISCOVER THE REAL MEANING OF FARM TO TABLE. EAT LOCAL\, HONEST\, PRODUCE-DRIVEN AND SEASONAL DISHES AROUND THE TABLE OR ON THE GO. MADE BY INNOVATIVE CHEFS FROM CORNWALL AND BEYOND. LONG TABLE FEASTS. FORAGED BOTANICALS. WOOD-FIRED COOKING.\n\n\n\n\n\nLike getting involved at your favourite dinner party (remember those?) all day\, all weekend.
URL:https://foodlovermagazine.com/event/porthilly-spirit
LOCATION:TREFRESA FARM\,\, Wadebridge\, Cornwall\, PL27 6NF
CATEGORIES:Cornwall
ATTACH;FMTTYPE=image/png:https://foodlovermagazine.com/wp-content/uploads/2021/03/Screenshot-2021-03-19-at-12.56.31.png
END:VEVENT
BEGIN:VEVENT
DTSTART;TZID=Europe/London:20210522T100000
DTEND;TZID=Europe/London:20210522T160000
DTSTAMP:20260424T153716
CREATED:20210514T083828Z
LAST-MODIFIED:20210514T083828Z
UID:23337-1621677600-1621699200@foodlovermagazine.com
SUMMARY:eat:Yeovil
DESCRIPTION:eat:Yeovil food & drink market is returning to the town centre on Saturday 22 May.\nThis is a one-day celebration of local and regional food and drink\, organised by multi-award winning eat:Festivals and supported by Yeovil Town Council.\nFind over 45 local food and drink producers in St John’s Churchyard\, The Borough and King George Street. Farmers market favourites\, great street food and some funny beats from their DJs. \nwww.eatfestivals.org
URL:https://foodlovermagazine.com/event/eatyeovil
LOCATION:eat:Yeovil\, St John's Church\, Church Path\,\, Yeovil\, Yeovil\, BA20 1HE
CATEGORIES:Somerset
ATTACH;FMTTYPE=image/png:https://foodlovermagazine.com/wp-content/uploads/2021/05/Facebook-event-covers-7.png
END:VEVENT
END:VCALENDAR